BEGIN:VCALENDAR
VERSION:2.0
PRODID:-//ChamberMaster//Event Calendar 2.0//EN
METHOD:PUBLISH
X-PUBLISHED-TTL:P3D
REFRESH-INTERVAL:P3D
CALSCALE:GREGORIAN
BEGIN:VEVENT
DTSTART:20240613T220000Z
DTEND:20240613T230000Z
X-MICROSOFT-CDO-ALLDAYEVENT:FALSE
SUMMARY:Friends of the Library
DESCRIPTION:Corning Friends of the Library Club
X-ALT-DESC;FMTTYPE=text/html:Corning Friends of the Library Club
LOCATION:Corning Library
UID:e.3431.3671
SEQUENCE:3
DTSTAMP:20260421T083558Z
URL:https://business.corningcachamber.org/events/details/friends-of-the-library-06-13-2024-3671
END:VEVENT

END:VCALENDAR
