BEGIN:VCALENDAR
VERSION:2.0
PRODID:-//ChamberMaster//Event Calendar 2.0//EN
METHOD:PUBLISH
X-PUBLISHED-TTL:P3D
REFRESH-INTERVAL:P3D
CALSCALE:GREGORIAN
BEGIN:VEVENT
DTSTART:20250908T170000Z
DTEND:20250908T180000Z
X-MICROSOFT-CDO-ALLDAYEVENT:FALSE
SUMMARY:Fresh Food Giveaway
DESCRIPTION:Fresh (perishable) Food Giveaway available weekly to all who have need as supplies last.
X-ALT-DESC;FMTTYPE=text/html:Fresh (perishable) Food Giveaway available weekly to all who have need as supplies last.
LOCATION:New Life Assembly 660 Solano St Corning\, Ca 96021
UID:e.3431.5019
SEQUENCE:3
DTSTAMP:20260422T085521Z
URL:https://business.corningcachamber.org/events/details/fresh-food-giveaway-09-08-2025-5019
END:VEVENT

END:VCALENDAR
