BEGIN:VCALENDAR
VERSION:2.0
PRODID:-//ChamberMaster//Event Calendar 2.0//EN
METHOD:PUBLISH
X-PUBLISHED-TTL:P3D
REFRESH-INTERVAL:P3D
CALSCALE:GREGORIAN
BEGIN:VEVENT
DTSTART:20251008T000000Z
DTEND:20251008T030000Z
X-MICROSOFT-CDO-ALLDAYEVENT:FALSE
SUMMARY:Corning Tuesday Night Market - Closing Night & the Annual Bed Races!
DESCRIPTION:Thanks for your interest in the Corning Tuesday Night Market!\n\n\n\nClosing Night on Ocotber 7 is the hilarious the Bed Races!\n\nIf you know any groups that would be interested in having a racing team (4 people needed) please let us know! (BYOBed)\n\n \n\nArrival and Set-up instructions are sent to all registered vendors the week prior to the Market.\n\nThe FIRST STEP is to register online.\n\nClick on the right option\, "Not a member? Click here to continue your event registration."\n\nPlease complete every question\, with special attention to the "Detailed Description of Goods."\n\nListing ALL your items\, as this will determine whether we already have a vendor selling those items or not.\n\n \n\nALL vendors selling products\, with the exception of non-profit organizations\, need to have their CA Seller's Permit\, which can quickly and easily be acquired online at no charge:\n\nhttps://www.cdtfa.ca.gov/taxes-and-fees/faqseller.htm\n\n \n\nIf everything is good to go\, I will call to have you submit your signed vendor agreement and deposit\, which is based on your vendor category.\n\nFood vendors also need to submit their Tehama County Environmental Health Permit and $1M Liability Insurance Certificate naming both the Corning Chamber of Commerce AND the City of Corning as Additional Certificate Holders.\n\n \n\nPlease feel free to contact us with any questions. Our office is open Tuesday - Friday - 10AM - 4PM. If you plan to come in-person\, please call first to make sure I'll be there when you arrive: 530-824-5550.\n\n \n\n Craft\, Retail\, Farmers and Producers Vendors\n\n-            $25 REFUNDABLE Deposit*   Cash or Check\n\n-            Completed Application w/CA Seller's Permit # and complete description of ALL ITEMS YOU INTEND TO SELL\n\n-            SIGNED Vendor Agreement\n\n-            # OF 10X10 spaces\n\n \n\nFood Vendors\n\n-            $200 REFUNDABLE Deposit*   Cash or Check\n\n-            Completed Application w/CA Seller's Permit # and complete description of ALL ITEMS YOU INTEND TO SELL\n\n-            SIGNED Vendor Agreement\n\n-            Tehama County Environmental Health Temporary Mobile Food Permit or a Cottage Food Permit\, whichever is applicable.\n\n-            1 Million Dollar Liability Insurance Certificate \n\n**Naming BOTH the Corning Chamber of Commerce AND the City of Corning as ADDITIONAL INSUREDS**\n\n-            # OF 10X10 spaces OR the total length of your truck & trailer\n\n \n\nNon-profit Organizations\n\n-            There is NO REFUNDABLE Deposit Requirement for Non-profits\n\n-            Completed Application\n\n-            SIGNED Vendor Agreement\n\n-            # OF 10X10 spaces \n\n*REFUNDABLE DEPOSIT   This is being instituted as a way to decrease "no shows" and secure vendors' commitment for the season. As long as you attend on the days you've said you will OR\, call us with a MINIMUM of 3 days advance notice if you are unable to come\, your deposit will not be cashed.\n\nHowever\, if you don't attend and don't give a 3-day notice your cash or check will be deposited and you will have to pay another deposit before returning to Market.\n\n \n\nDEADLINES for submitting ALL PAPERWORK AND the REFUNDABLE DEPOSIT:\n\nAugust 22 for September 2 Market\n\nSeptember 26 for October 7 Market\n\n \n\nThe Vendor Agreement link was in the registration process\, however\, for your convenience\, I've attached a copy. \n\n*Please sign and return\, this is required for ALL vendor categories.*\n\n Your paperwork can be emailed to this address: info@corningcachamber.org\n\n \n\n*Please DO NOT leave cash or a check in the black mailslot by our door\, it is VERY FLIMSY!!\n\nIf you are mailing your deposit\, please send it to:\n\nCorning Chamber \n\nPO Box 871\n\nCorning CA 96021-0871\n\n\n\nFor vendor information please contact the Chamber: 530-824-5550 or info@corningcachamber.org
X-ALT-DESC;FMTTYPE=text/html:<div aria-controls=":12h" aria-expanded="false" aria-label="Message Body" aria-multiline="true" aria-owns=":12h" class="Am aiL Al editable LW-avf tS-tW tS-tY" g_editable="true" id=":101" itacorner="6\,7:1\,1\,0\,0" role="textbox" spellcheck="false" style="direction: ltr\; min-height: 376px\;" tabindex="1" writingsuggestions="false">Thanks for your interest in the Corning Tuesday Night Market!<br />\n<br />\n<span style="color: rgb(233\, 113\, 50)\;">Closing Night on Ocotber 7 is the hilarious the&nbsp\;Bed Races!</span><br />\n<span style="color: rgb(233\, 113\, 50)\;">If you know any groups that would be interested in having a racing team (4 people needed) please let us know! (BYOBed)</span><br />\n&nbsp\;<br />\n<strong>Arrival&nbsp\;and Set-up instructions are sent to all registered vendors the week prior to the Market.</strong><br />\nThe FIRST STEP is to register online.<br />\nClick on the right option\, &quot\;Not a member? Click here to continue your event registration.&quot\;<br />\nPlease complete every question\, with special attention to the &quot\;Detailed Description of Goods.&quot\;<br />\nListing ALL your items\, as this will determine whether we already have a vendor selling those items or not.<br />\n&nbsp\;<br />\n<strong>ALL vendors selling products</strong>\, with the exception of non-profit organizations\, need to have their CA Seller&#39\;s Permit\, which can quickly and easily be acquired online at no charge:<br />\n<a href="https://www.cdtfa.ca.gov/taxes-and-fees/faqseller.htm?fbclid=IwZXh0bgNhZW0CMTAAYnJpZBExMWRSU28yamI1TmUyMFhMUAEeahY5zJWmR3kZPidM1YznkXsljITpfmPB5rBr4WejlQaLXXCFPbNfx_8kLxU_aem_U5Ty3vGndPw7780TwqBgrA" target="_blank"><strong>https://www.cdtfa.ca.gov/taxes-and-fees/faqseller.htm</strong></a><br />\n&nbsp\;<br />\nIf everything is good to go\, I will call to have you submit your signed vendor agreement and deposit\, which is based on your vendor category.<br />\n<strong>Food vendors</strong>&nbsp\;also need to submit their Tehama County Environmental Health Permit and $1M Liability Insurance Certificate naming both the Corning Chamber of Commerce AND the City of Corning as Additional Certificate Holders.<br />\n&nbsp\;<br />\nPlease feel free to contact us with any questions. Our office is open Tuesday - Friday - 10AM - 4PM. If you plan to come in-person\, please call first to make sure I&#39\;ll be there when you arrive: 530-824-5550.<br />\n&nbsp\;<br />\n<strong><span style="color: rgb(160\, 43\, 147)\;">&nbsp\;Craft\, Retail\, Farmers and Producers Vendors</span></strong><br />\n<strong><span style="color: rgb(160\, 43\, 147)\;">-&nbsp\;&nbsp\;&nbsp\;&nbsp\;&nbsp\;&nbsp\;&nbsp\;&nbsp\;&nbsp\;&nbsp\;&nbsp\;&nbsp\;$25 REFUNDABLE&nbsp\;Deposit*&nbsp\;&ndash\; Cash or Check</span></strong><br />\n<strong><span style="color: rgb(160\, 43\, 147)\;">-&nbsp\;&nbsp\;&nbsp\;&nbsp\;&nbsp\;&nbsp\;&nbsp\;&nbsp\;&nbsp\;&nbsp\;&nbsp\;&nbsp\;Completed&nbsp\;Application w/CA Seller&rsquo\;s Permit # and complete description of ALL ITEMS YOU INTEND TO SELL</span></strong><br />\n<strong><span style="color: rgb(160\, 43\, 147)\;">-&nbsp\;&nbsp\;&nbsp\;&nbsp\;&nbsp\;&nbsp\;&nbsp\;&nbsp\;&nbsp\;&nbsp\;&nbsp\;&nbsp\;SIGNED&nbsp\;Vendor Agreement</span></strong><br />\n<strong><span style="color: rgb(160\, 43\, 147)\;">-&nbsp\;&nbsp\;&nbsp\;&nbsp\;&nbsp\;&nbsp\;&nbsp\;&nbsp\;&nbsp\;&nbsp\;&nbsp\;&nbsp\;# OF 10X10 spaces</span></strong><br />\n&nbsp\;<br />\n<strong><span style="color: rgb(233\, 113\, 50)\;">Food Vendors</span></strong><br />\n<strong><span style="color: rgb(233\, 113\, 50)\;">-&nbsp\;&nbsp\;&nbsp\;&nbsp\;&nbsp\;&nbsp\;&nbsp\;&nbsp\;&nbsp\;&nbsp\;&nbsp\;&nbsp\;$200 REFUNDABLE&nbsp\;Deposit*&nbsp\;&ndash\; Cash or Check</span></strong><br />\n<strong><span style="color: rgb(233\, 113\, 50)\;">-&nbsp\;&nbsp\;&nbsp\;&nbsp\;&nbsp\;&nbsp\;&nbsp\;&nbsp\;&nbsp\;&nbsp\;&nbsp\;&nbsp\;Completed&nbsp\;Application w/CA Seller&rsquo\;s Permit # and complete description of ALL ITEMS YOU INTEND TO SELL</span></strong><br />\n<strong><span style="color: rgb(233\, 113\, 50)\;">-&nbsp\;&nbsp\;&nbsp\;&nbsp\;&nbsp\;&nbsp\;&nbsp\;&nbsp\;&nbsp\;&nbsp\;&nbsp\;&nbsp\;SIGNED&nbsp\;Vendor Agreement</span></strong><br />\n<strong><span style="color: rgb(233\, 113\, 50)\;">-&nbsp\;&nbsp\;&nbsp\;&nbsp\;&nbsp\;&nbsp\;&nbsp\;&nbsp\;&nbsp\;&nbsp\;&nbsp\;&nbsp\;Tehama County Environmental Health&nbsp\;Temporary Mobile Food Permit or a Cottage Food Permit\, whichever is applicable.</span></strong><br />\n<strong><span style="color: rgb(233\, 113\, 50)\;">-&nbsp\;&nbsp\;&nbsp\;&nbsp\;&nbsp\;&nbsp\;&nbsp\;&nbsp\;&nbsp\;&nbsp\;&nbsp\;&nbsp\;1 Million Dollar Liability Insurance Certificate&nbsp\;</span></strong><br />\n<strong><span style="color: rgb(233\, 113\, 50)\;">**Naming BOTH the Corning Chamber of Commerce AND the City of Corning as ADDITIONAL INSUREDS**</span></strong><br />\n<strong><span style="color: rgb(233\, 113\, 50)\;">-&nbsp\;&nbsp\;&nbsp\;&nbsp\;&nbsp\;&nbsp\;&nbsp\;&nbsp\;&nbsp\;&nbsp\;&nbsp\;&nbsp\;# OF 10X10 spaces&nbsp\;OR the total length of your truck &amp\; trailer</span></strong><br />\n&nbsp\;<br />\n<strong><span style="color: rgb(78\, 167\, 46)\;">Non-profit Organizations</span></strong><br />\n<strong><span style="color: rgb(78\, 167\, 46)\;">-&nbsp\;&nbsp\;&nbsp\;&nbsp\;&nbsp\;&nbsp\;&nbsp\;&nbsp\;&nbsp\;&nbsp\;&nbsp\;&nbsp\;There is NO REFUNDABLE&nbsp\;Deposit Requirement for Non-profits</span></strong><br />\n<strong><span style="color: rgb(78\, 167\, 46)\;">-&nbsp\;&nbsp\;&nbsp\;&nbsp\;&nbsp\;&nbsp\;&nbsp\;&nbsp\;&nbsp\;&nbsp\;&nbsp\;&nbsp\;Completed&nbsp\;Application</span></strong><br />\n<strong><span style="color: rgb(78\, 167\, 46)\;">-&nbsp\;&nbsp\;&nbsp\;&nbsp\;&nbsp\;&nbsp\;&nbsp\;&nbsp\;&nbsp\;&nbsp\;&nbsp\;&nbsp\;SIGNED&nbsp\;Vendor Agreement</span></strong><br />\n<strong><span style="color: rgb(78\, 167\, 46)\;">-&nbsp\;&nbsp\;&nbsp\;&nbsp\;&nbsp\;&nbsp\;&nbsp\;&nbsp\;&nbsp\;&nbsp\;&nbsp\;&nbsp\;# OF 10X10 spaces&nbsp\;</span></strong><br />\n<strong>*REFUNDABLE DEPOSIT &ndash\; This is being instituted as a way to decrease &ldquo\;no shows&rdquo\; and secure vendors&rsquo\; commitment for the season. As long as you attend on the days you&rsquo\;ve said you will OR\, call us with a MINIMUM of 3 days advance notice if you are unable to come\, your deposit will not be cashed.</strong><br />\n<strong><span style="color: rgb(238\, 0\, 0)\;">However\, if you don&rsquo\;t attend and don&rsquo\;t give a 3-day notice your cash or check will be deposited and you will have to pay another deposit before returning to Market.</span></strong><br />\n&nbsp\;<br />\n<strong>DEADLINES for submitting ALL PAPERWORK AND the REFUNDABLE DEPOSIT:</strong><br />\n<strong>August 22 for September 2 Market</strong><br />\n<strong>September 26 for October 7 Market</strong><br />\n&nbsp\;<br />\n<strong>The&nbsp\;Vendor&nbsp\;Agreement&nbsp\;link was in the registration&nbsp\;process\, however\, for your convenience\, I&#39\;ve attached a copy.&nbsp\;</strong><br />\n<strong>*Please sign and return\, this is required for ALL&nbsp\;vendor&nbsp\;categories.*</strong><br />\n&nbsp\;Your paperwork can be emailed to this address:&nbsp\;<a href="mailto:info@corningcachamber.org" target="_blank">info@corningcachamber.org</a><br />\n&nbsp\;<br />\n<strong><em>*Please DO NOT leave cash or a check in the black mailslot by our door\, it is VERY FLIMSY!!</em></strong><br />\nIf you are mailing your deposit\, please send it to:<br />\nCorning Chamber&nbsp\;<br />\nPO Box 871<br />\nCorning CA 96021-0871<br />\n<br />\nFor vendor information&nbsp\;please contact the Chamber:&nbsp\;<a href="tel:530-824-5550">530-824-5550</a>&nbsp\;or&nbsp\;<a href="mailto:info@corningcachamber.org" target="_blank">info@corningcachamber.org</a></div>\n
LOCATION:Located in downtown Corning on Solano St between 3rd and 6th Streets.
UID:e.3431.5921
SEQUENCE:3
DTSTAMP:20260423T222922Z
URL:https://business.corningcachamber.org/events/details/corning-tuesday-night-market-closing-night-the-annual-bed-races-5921
END:VEVENT

END:VCALENDAR
