BEGIN:VCALENDAR
VERSION:2.0
PRODID:-//ChamberMaster//Event Calendar 2.0//EN
METHOD:PUBLISH
X-PUBLISHED-TTL:P3D
REFRESH-INTERVAL:P3D
CALSCALE:GREGORIAN
BEGIN:VEVENT
DTSTART:20261010T150000Z
DTEND:20261010T220000Z
X-MICROSOFT-CDO-ALLDAYEVENT:FALSE
SUMMARY:2026 Car Show at the 79th Annual Corning Olive Festival
DESCRIPTION:The Annual Car Show will be held during the 79th Corning Olive Festival and is located at Lennox Fields\, 1624 Houghton Avenue.\n\n\n\nAwards are given for the top in each category of autos\, pickups\, Best of Show and the People's Choice Award.\n\n\n\nAlso on the Car Show side will be live music\, food & beverage vendors\, as well as the Beer Garden.\n\n\n\nThere is a convenient footbridge that takes you over to the Olive Festival\, admission is free and includes a Food Court\, Kid Zone\, Craft\, Retail and Community Organizations booths\, a huge raffle at the Chamber booth and the Rotary's Annual Olive Drop.\n\n\n\nThe Car Show is open from 8AM - 3PM.\n\nThe Olive Festival is open 10AM - 3PM.\n\n\n\n**PLEASE PAY AT THE TIME OF REGISTRATION!**\n\n\n\nParticipants with vehicles 1900 to Present will be judged in the categories listed below\, provided there is a minimum of five (5) judged entries per category.\n\n\n\nCars\, lowriders\, muscle cars\, rat rods\, imports\, and trucks are invited to register either in advance or at 8AM the morning of the event.\n\n\n\nThere will be stock and modified for each category and every eligible year is invited to participate.\n\n\n\nPrizes will be awarded for each category with a minimum of 5 judged entries\, and also "Best of Show" and the "Peoples' Choice Award."\n\n\n\nIn the planning stage\, is a Friday evening Cruise Night Show 'n Shine & Mixer in downtown Corning\, details TBA\, which you are welcome to attend.
X-ALT-DESC;FMTTYPE=text/html:The Annual Car Show will be held during the 79th Corning Olive Festival and is located at Lennox Fields\, 1624 Houghton Avenue.<br />\n<br />\nAwards are given for the top in each category of autos\, pickups\, Best of Show and the People&#39\;s Choice Award.<br />\n<br />\nAlso on the Car Show side will be live music\, food &amp\; beverage vendors\, as well as the Beer Garden.<br />\n<br />\nThere is a convenient footbridge that takes you over to&nbsp\;the Olive Festival\, admission is free and includes a Food Court\, Kid Zone\, Craft\, Retail and Community Organizations booths\, a huge raffle at the Chamber booth and the Rotary&#39\;s Annual Olive Drop.<br />\n<br />\nThe Car Show is open from 8AM - 3PM.<br />\nThe Olive Festival is open 10AM - 3PM.<br />\n<br />\n**PLEASE PAY AT THE TIME OF REGISTRATION!**<br />\n<br />\nParticipants with vehicles 1900 to Present will be judged in the categories listed below\, provided there is a minimum of five (5) judged entries per category.<br />\n<br />\nCars\, lowriders\, muscle cars\, rat rods\, imports\, and trucks are invited to register either in advance or at 8AM the morning of the event.<br />\n<br />\nThere will be stock and modified for each category and every eligible year is invited to participate.<br />\n<br />\nPrizes will be awarded for each category with a minimum of 5 judged entries\, and also &ldquo\;Best of Show&rdquo\; and the &ldquo\;Peoples&rsquo\; Choice Award.&rdquo\;<br />\n<br />\nIn the planning stage\, is a Friday evening Cruise Night Show &#39\;n Shine &amp\; Mixer in downtown Corning\, details TBA\, which you are welcome to attend.<br />\n&nbsp\;
LOCATION:Annual Car Show is located at Lennox Fields\, 1624 Houghton Avenue. The Olive Festival is located next door at Corning Community (skate) Park\, 1485 Toomes Avenue.
UID:e.3431.9559
SEQUENCE:3
DTSTAMP:20260424T225907Z
URL:https://business.corningcachamber.org/events/details/2026-car-show-at-the-79th-annual-corning-olive-festival-9559
END:VEVENT

END:VCALENDAR
