BEGIN:VCALENDAR
VERSION:2.0
PRODID:-//ChamberMaster//Event Calendar 2.0//EN
METHOD:PUBLISH
X-PUBLISHED-TTL:P3D
REFRESH-INTERVAL:P3D
CALSCALE:GREGORIAN
BEGIN:VEVENT
DTSTART:20261010T170000Z
DTEND:20261010T220000Z
X-MICROSOFT-CDO-ALLDAYEVENT:FALSE
SUMMARY:2026 79th Annual Corning Olive Festival & Car Show
DESCRIPTION:Experience one of Corning's most anticipated community traditions at the 79th Annual Corning Olive Festival & Car Show!\n\n\n\nOctober 10\, 2026\n\n10:00 AM   3:00 PM\n\nBe part of a celebration that honors more than 100 years of Corning's proud heritage as the Olive City. This beloved festival brings our community together for a full day of flavor\, entertainment\, and discovery   and you won't want to miss a moment of it.\n\n\n\nWhy Attend?\n\n\n	Taste the best of Corning with local food vendors showcasing olive-inspired creations and festival favorites.\n	Meet industry leaders and artisans who bring craftsmanship\, culture\, and innovation to life.\n	Bring the whole family for hands on crafts\, activities\, and a lively kids' zone designed for smiles of every age.\n	Enjoy live music that sets the tone for a festive and fun atmosphere.\n	Explore an impressive car show featuring everything from timeless classics to today's cutting edge models.\n\nWhether you're a longtime resident\, a returning visitor\, or discovering Corning for the first time\, the Olive Festival is your chance to celebrate tradition\, community spirit\, and the vibrant culture that makes our city unique.\n\n\n\nCome for the olives   stay for the experience.\n\nWe'll see you there!\n\n\nVendor Information\n\nBack by popular demand! We want to show some Olive Love to our vendors featuring olive themed goods or olive based products. Enjoy a $10.00 discount on your vendor fee as our thank you.\n\nSimply describe which of your items are olive themed for verification and enter the code OLIVELOVE when registering.\n\n\n\nChamber Member Discount\n\nRetail vendors who are active Chamber Members are eligible for a discounted booth rate.\n\nTo receive this benefit\, please ensure you register using your Chamber Member status.\n\n\nPermit Requirements\n\nAll vendors are responsible for ensuring they have obtained the appropriate permits prior to participating in the event. Please review the resources below to confirm that your documentation is complete.\n\nRequired Permits and Resources\nCalifornia Seller's Permit\n\nAll vendors excluding nonprofit organizations must hold a valid California Seller's Permit.\n\nIf you do not yet have one\, it can be obtained at no cost through the California Department of Tax and Fee Administration:\n\nhttps://www.cdtfa.ca.gov/taxes-and-fees/faqseller.htm\n\nFood Service Permits\n\nFood trucks\, food pop ups\, and cottage food operators must secure the required permits through Tehama County Environmental Health.\n\nInformation and applications are available at:\n\nhttps://www.tehama.gov/government/departments/environmental-health\n\n\n\n**The two "Food Truck Vendor" fee options are for ALL FOOD VENDORS\, whether you're in a truck or a 10x10 canopy. \n\n\n\nVendors will again have the opportunity to set up on the Car Show side of the park this year.\n\nIf you selected this option during registration\, no further action is needed. If not\, or if you wish to update your placement\, please contact the office for assistance.\n\n\n\nImportant Deadlines\n\n\n	Vendor Application Deadline: September 25\, 2026 (applications submitted after this date may incur a late fee)\n	Final Registration Close: October 2\, 2026
X-ALT-DESC;FMTTYPE=text/html:<div dir="auto" style="color: rgb(8\, 8\, 9)\; font-family: inherit\; font-size: 15px\; white-space-collapse: preserve\; animation-name: none\; transition-property: none\;">\n<div font-size:="" line-height:="" segoe="" style="font-family: ">\n<p><span style="font-size:20px\;"><strong>Experience one of Corning&rsquo\;s most anticipated community traditions at the 79th Annual Corning Olive Festival &amp\; Car Show!</strong></span><br />\n<br />\n<span style="font-size:20px\;"><strong>October 10\, 2026</strong><br />\n<strong>10:00 AM &ndash\; 3:00 PM</strong></span></p>\n\n<p>Be part of a celebration that honors more than 100 years of Corning&rsquo\;s proud heritage as the <em>Olive City</em>. This beloved festival brings our community together for a full day of flavor\, entertainment\, and discovery &mdash\; and you won&rsquo\;t want to miss a moment of it.<br />\n<br />\n<span style="font-size:20px\;"><strong>Why Attend?</strong></span></p>\n\n<ul>\n	<li><strong>Taste the best of Corning</strong> with local food vendors showcasing olive-inspired creations and festival favorites.</li>\n	<li><strong>Meet industry leaders and artisans</strong> who bring craftsmanship\, culture\, and innovation to life.</li>\n	<li><strong>Bring the whole family</strong> for hands&#8209\;on crafts\, activities\, and a lively kids&rsquo\; zone designed for smiles of every age.</li>\n	<li><strong>Enjoy live music</strong> that sets the tone for a festive and fun atmosphere.</li>\n	<li><strong>Explore an impressive car show</strong> featuring everything from timeless classics to today&rsquo\;s cutting&#8209\;edge models.</li>\n</ul>\nWhether you&rsquo\;re a longtime resident\, a returning visitor\, or discovering Corning for the first time\, the Olive Festival is your chance to celebrate tradition\, community spirit\, and the vibrant culture that makes our city unique.<br />\n<br />\n<span style="font-size:20px\;"><strong>Come for the olives &mdash\; stay for the experience.</strong></span><br />\nWe&rsquo\;ll see you there!\n<p><br />\n<u><span style="font-size:20px\;"><strong>Vendor Information</strong></span></u><br />\nBack by popular demand! We want to show some Olive Love to our vendors featuring olive&#8209\;themed goods or olive&#8209\;based products. Enjoy a $10.00 discount on your vendor fee as our thank&#8209\;you.<br />\nSimply describe which of your items are olive&#8209\;themed for verification and enter the code <strong>OLIVELOVE</strong> when registering.<br />\n<br />\n<span style="color: rgb(8\, 8\, 9)\; font-family: sans-serif\, Arial\, Verdana\, &quot\;Trebuchet MS&quot\;\; white-space-collapse: preserve\; background-color: rgb(255\, 255\, 255)\; font-size: 20px\;"><strong>Chamber Member Discount</strong></span><br style="color: rgb(8\, 8\, 9)\; font-family: sans-serif\, Arial\, Verdana\, &quot\;Trebuchet MS&quot\;\; font-size: 15px\; white-space-collapse: preserve\; background-color: rgb(255\, 255\, 255)\;" />\n<span style="color: rgb(8\, 8\, 9)\; font-family: sans-serif\, Arial\, Verdana\, &quot\;Trebuchet MS&quot\;\; font-size: 15px\; white-space-collapse: preserve\; background-color: rgb(255\, 255\, 255)\;">Retail vendors who are active </span><strong style="color: rgb(8\, 8\, 9)\; font-family: sans-serif\, Arial\, Verdana\, &quot\;Trebuchet MS&quot\;\; font-size: 15px\; white-space-collapse: preserve\; background-color: rgb(255\, 255\, 255)\;">Chamber Members</strong><span style="color: rgb(8\, 8\, 9)\; font-family: sans-serif\, Arial\, Verdana\, &quot\;Trebuchet MS&quot\;\; font-size: 15px\; white-space-collapse: preserve\; background-color: rgb(255\, 255\, 255)\;"> are eligible for a discounted booth rate.</span><br style="color: rgb(8\, 8\, 9)\; font-family: sans-serif\, Arial\, Verdana\, &quot\;Trebuchet MS&quot\;\; font-size: 15px\; white-space-collapse: preserve\; background-color: rgb(255\, 255\, 255)\;" />\n<span style="color: rgb(8\, 8\, 9)\; font-family: sans-serif\, Arial\, Verdana\, &quot\;Trebuchet MS&quot\;\; font-size: 15px\; white-space-collapse: preserve\; background-color: rgb(255\, 255\, 255)\;">To receive this benefit\, please ensure you register using your Chamber Member status.</span></p>\n\n<div font-size:="" line-height:="" segoe="" style="font-family: ">\n<h3><strong>Permit Requirements</strong></h3>\n\n<p>All vendors are responsible for ensuring they have obtained the appropriate permits prior to participating in the event. Please review the resources below to confirm that your documentation is complete.<br />\n<strong><span style="font-size:20px\;">Required Permits and Resources</span></strong></p>\n<strong>California Seller&rsquo\;s Permit</strong><br />\n<strong>All vendors&mdash\;<strong>excluding nonprofit organizations</strong>&mdash\;must hold a valid California Seller&rsquo\;s Permit.</strong>\n\n<p>If you do not yet have one\, it can be obtained at no cost through the California Department of Tax and Fee Administration:<br />\n<a href="https://www.cdtfa.ca.gov/taxes-and-fees/faqseller.htm">https://www.cdtfa.ca.gov/taxes-and-fees/faqseller.htm</a></p>\n\n<p><strong>Food Service Permits</strong><br />\nFood trucks\, food pop&#8209\;ups\, and cottage food operators must secure the required permits through <strong>Tehama County Environmental Health</strong>.<br />\nInformation and applications are available at:<br />\n<a href="https://www.tehama.gov/government/departments/environmental-health">https://www.tehama.gov/government/departments/environmental-health</a><br />\n<br />\n<strong style="color: rgb(0\, 0\, 0)\;"><span style="color: rgb(255\, 0\, 0)\;"><span style="font-size: 16px\;">**The two &quot\;Food Truck Vendor&quot\; fee options are for ALL FOOD VENDORS\, whether you&#39\;re in a truck or a 10x10 canopy. </span></span></strong><br />\n<br />\nVendors will again have the opportunity to set up on the <strong>Car Show side of the park</strong> this year.<br />\nIf you selected this option during registration\, no further action is needed. If not\, or if you wish to update your placement\, please contact the office for assistance.<br />\n<br />\n<span style="font-size:20px\;"><strong>Important Deadlines</strong></span></p>\n\n<ul>\n	<li><strong>Vendor Application Deadline:</strong> September 25\, 2026 (applications submitted after this date may incur a late fee)</li>\n	<li><strong>Final Registration Close:</strong> October 2\, 2026</li>\n</ul>\n</div>\n</div>\n</div>\n
LOCATION:Corning Community Park and Lennox Field Parking Information Due to limited on site parking at Lennox and Corning Community Parks\, off site parking will be available all day at the Olive Pit. A shuttle will provide continuous transportation between the Olive Pit and the Corning Community Park bus stop.
UID:e.3431.7610
SEQUENCE:3
DTSTAMP:20260421T212910Z
URL:https://business.corningcachamber.org/events/details/2026-79th-annual-corning-olive-festival-car-show-7610
END:VEVENT

END:VCALENDAR
